View In:
ArcGIS JavaScript
ArcGIS Online Map Viewer
ArcGIS Earth
ArcMap
View Footprint In:
ArcGIS Online Map Viewer
Service Description: Old 5 meter dem from AGRC
Name: DEM_5m
Description: Old 5 meter dem from AGRC
Single Fused Map Cache: false
Extent:
XMin: -1.2429188229092335E7
YMin: 4950520.149302835
XMax: -1.2402457245187977E7
YMax: 4978024.883445504
Spatial Reference: 102100
(3857)
Initial Extent:
XMin: -1.2429188229092335E7
YMin: 4950520.149302835
XMax: -1.2402457245187977E7
YMax: 4978024.883445504
Spatial Reference: 102100
(3857)
Full Extent:
XMin: -1.2429188229092335E7
YMin: 4950520.149302835
XMax: -1.2402457245187977E7
YMax: 4978024.883445504
Spatial Reference: 102100
(3857)
Pixel Size X: 5.0
Pixel Size Y: 5.0
Band Count: 1
Pixel Type: F32
RasterFunction Infos: {"rasterFunctionInfos": [{
"name": "None",
"description": "",
"help": ""
}]}
Mensuration Capabilities: Basic
Has Histograms: false
Has Colormap: false
Has Multi Dimensions : false
Rendering Rule:
Min Scale: 5.91657527591555E8
Max Scale: 141.062147
Copyright Text: PCMC
Service Data Type: esriImageServiceDataTypeGeneric
Min Values: 1767.0999755859375
Max Values: 3283.699951171875
Mean Values: 2320.315523309082
Standard Deviation Values: 329.6765486563402
Object ID Field:
Fields:
None
Default Mosaic Method: Center
Allowed Mosaic Methods:
SortField:
SortValue: null
Mosaic Operator: First
Default Compression Quality: 75
Default Resampling Method: Bilinear
Max Record Count: null
Max Image Height: 4100
Max Image Width: 15000
Max Download Image Count: null
Max Mosaic Image Count: null
Allow Raster Function: true
Allow Copy: null
Allow Analysis: null
Allow Compute TiePoints: false
Supports Statistics: false
Supports Advanced Queries: false
Use StandardizedQueries: true
Raster Type Infos:
Name: Raster Dataset
Description: Supports all ArcGIS Raster Datasets
Help:
Has Raster Attribute Table: false
Edit Fields Info: null
Ownership Based AccessControl For Rasters: null
Child Resources:
Info
Key Properties
Legend
Raster Function Infos
Supported Operations:
Export Image
Identify
Measure
Compute Histograms
Compute Statistics Histograms
Get Samples
Compute Class Statistics
Query Boundary
Compute Pixel Location
Validate
Project